BEGIN:VCALENDAR
VERSION:2.0
PRODID:-//88681 cafe dance studio - ECPv6.15.20//NONSGML v1.0//EN
CALSCALE:GREGORIAN
METHOD:PUBLISH
X-WR-CALNAME:88681 cafe dance studio
X-ORIGINAL-URL:https://88681-cafedancestudio.com
X-WR-CALDESC:88681 cafe dance studio のイベント
REFRESH-INTERVAL;VALUE=DURATION:PT1H
X-Robots-Tag:noindex
X-PUBLISHED-TTL:PT1H
BEGIN:VTIMEZONE
TZID:Asia/Tokyo
BEGIN:STANDARD
TZOFFSETFROM:+0900
TZOFFSETTO:+0900
TZNAME:JST
DTSTART:20250101T000000
END:STANDARD
END:VTIMEZONE
BEGIN:VEVENT
DTSTART;TZID=Asia/Tokyo:20260529T190000
DTEND;TZID=Asia/Tokyo:20260529T202500
DTSTAMP:20260425T224541
CREATED:20260423T002311Z
LAST-MODIFIED:20260425T025700Z
UID:10001429-1780081200-1780086300@88681-cafedancestudio.com
SUMMARY:TAKORON
DESCRIPTION:
URL:https://88681-cafedancestudio.com/event/takoron/
CATEGORIES:HIPHOP
ATTACH;FMTTYPE=image/jpeg:https://88681-cafedancestudio.com/wp-content/uploads/2026/04/IMG_8439-田所麟太郎（TAKORON）-1-scaled.jpeg
END:VEVENT
END:VCALENDAR